BEGIN:VCALENDAR
VERSION:2.0
PRODID:-//Irish Limousin - ECPv6.15.20//NONSGML v1.0//EN
CALSCALE:GREGORIAN
METHOD:PUBLISH
X-WR-CALNAME:Irish Limousin
X-ORIGINAL-URL:https://irishlimousin.com
X-WR-CALDESC:Events for Irish Limousin
REFRESH-INTERVAL;VALUE=DURATION:PT1H
X-Robots-Tag:noindex
X-PUBLISHED-TTL:PT1H
BEGIN:VTIMEZONE
TZID:UTC
BEGIN:STANDARD
TZOFFSETFROM:+0000
TZOFFSETTO:+0000
TZNAME:UTC
DTSTART:20230101T000000
END:STANDARD
END:VTIMEZONE
BEGIN:VEVENT
DTSTART;VALUE=DATE:20240901
DTEND;VALUE=DATE:20240902
DTSTAMP:20260425T103724
CREATED:20240814T140021Z
LAST-MODIFIED:20240814T140021Z
UID:12134-1725148800-1725235199@irishlimousin.com
SUMMARY:2024 North West Calf Finals
DESCRIPTION:2024 North West Calf Finals will be held on Sept. 1st in conjunction with Ballinrobe show.\n\nEntries: Direct to Ballinrobe Show Office.\n\nClasses for Bulls and Heifers born on or after September 1st 2023.
URL:https://irishlimousin.com/event/2024-north-west-calf-finals/
LOCATION:Ballinrobe show\, Ballinrobe Racecourse\, Ballinrobe\, Co. Mayo\, F31E677
ATTACH;FMTTYPE=image/jpeg:https://irishlimousin.com/wp-content/uploads/2024/08/North-West-club.jpg
END:VEVENT
BEGIN:VEVENT
DTSTART;TZID=UTC:20240901T140000
DTEND;TZID=UTC:20240901T170000
DTSTAMP:20260425T103724
CREATED:20240812T165212Z
LAST-MODIFIED:20240815T142650Z
UID:12089-1725199200-1725210000@irishlimousin.com
SUMMARY:South West and Cork Clubs Open Day and YMA event
DESCRIPTION:Tim and Doreen Corridan are very kindly hosting an Open day at the Roundhill Limousin herd in conjunction with the South West and Cork Clubs. \nA YMA event and a chance to see the Roundhill Pedigree Herd. This is a fantastic opportunity to see the largest polled herd in the country. Roundhill Limousin is the birth place of Roundhill Vjoyeuse 820 (ET)\, Roundhill Kmelodie 1595\, Ropundhill Punanime 1945 ET and Roundhill Saturn to name but a few. These genetics have gone on to produce many show champions including Baileys Iceprincess\, Charlottes Sapphire and Ballybrown Toby. \nAll are welcome to come along on the day.
URL:https://irishlimousin.com/event/south-west-cork_clubs-open-day-and-yma-event/
LOCATION:Roundhill Limousins\, Corridan Farm Ltd.\, Castlequarter House\, Fedamore\, Co. Limerick\, V35T652\, Ireland
ATTACH;FMTTYPE=image/jpeg:https://irishlimousin.com/wp-content/uploads/2020/08/Lot-19-Roundhill-P-Unanime-1945-scaled-1.jpg
END:VEVENT
BEGIN:VEVENT
DTSTART;VALUE=DATE:20240908
DTEND;VALUE=DATE:20240909
DTSTAMP:20260425T103724
CREATED:20240812T150237Z
LAST-MODIFIED:20240903T125125Z
UID:12054-1725753600-1725839999@irishlimousin.com
SUMMARY:Event Cancelled - Limousin extravaganza hosted by the Clare Club
DESCRIPTION:Unfortunately this event has been cancelled.\n\nClare Limousin Showcase – Clare Calf Finals 2024\n\n\nGrooming Demo\, Nutrition Talk and much more\n\nPrize money for all classes.\n\n\n\n\n\nPedigree Classes – entries open to Clare Club members\n\n\n\n\n\n\n1.\nBull calf born on or after the 1st September 2023\n\n\n2.\nHeifer Calf born on or after the 1st September 2023\n\n\n3.\nBull calf born on or after 1st November 2023\n\n\n4.\nHeifer calf born on or after the 1st November 2023\n\n\n5.\nBull calf born after the 1st January 2024\n\n\n6.\nHeifer calf born after the 1st January 2024\n\n\n7.\nBull calf born on or after the 1st March 2024\n\n\n8.\nHeifer calf born on or after the 1st March 2024\n\n\n9.\nBull born before 1st September 2023\n\n\n10.\nPedigree Limousin Cow/Heifer in calf or calf at foot.\n\n\n11.\nPedigree Maiden Heifer\n\n\n\n\n\n\nCommercial Classes – Open to all Clare breeders\n\n\n\n\n\n1.\n Best LMX Bull calf under 340 Kg\n\n\n2.\n Best LMX Heifer calf under 340 Kg\n\n\n3.\n Best LMX Bull calf under 440 Kg\n\n\n4.\n Best LMX Heifer calf under 440 Kg\n\n\n5.\n Best LM or LMX Cow & calf at foot\n\n\n\n  \n♦ All all classes are unhaltered. \n\n  Follow @clarelimousinclub on Facebook for more information.
URL:https://irishlimousin.com/event/limousin-extravaganza-hosted-by-the-clare-club/
LOCATION:Event Cancelled
ATTACH;FMTTYPE=image/jpeg:https://irishlimousin.com/wp-content/uploads/2023/11/Lot-13-DrumquinTinkerbell.jpg
END:VEVENT
BEGIN:VEVENT
DTSTART;TZID=UTC:20240914T130000
DTEND;TZID=UTC:20240914T170000
DTSTAMP:20260425T103724
CREATED:20240813T095143Z
LAST-MODIFIED:20240903T130726Z
UID:12094-1726318800-1726333200@irishlimousin.com
SUMMARY:10th Genetic Advantage Heifer Sale
DESCRIPTION:➡️Click here for Catalogue⬅️\nRoundhill and Castleview Limousins will hold their 10th Genetic Advantage heifer sale in Roscrea mart and online at Martbids\, on Saturday 14th of September. \n51 deep pedigree females on offer. \n\n27 Roundhill herd\n23 Castleview herd\n1 Ballybrown herd\n\nCharity auction in aid of Volunteers in Irish Veterinary Assistance – VIVA.  \nAs a celebration of our 20 years of sales\, we are pleased to offer the following: Lots 27-29\, all proceeds of these lots will go to VIVA. \n\nLot 27 – Embryo – Roundhill I Unanime 1440 x Ampertaine Foreman\nLot 28 – Embryo – Roundhill Vache x Mas Du Clo\nLot 29 – Semen – 2 Ronick Hawk\, 2 Bavardage & 1 Talent
URL:https://irishlimousin.com/event/10th-genetic-advantage-heifer-sale/
LOCATION:Roscrea Mart\, Co. Tipperary\, Parkmore Industrial Estate\, Roscrea\, Co. Tipperary\, E53 F223\, Ireland
ATTACH;FMTTYPE=image/jpeg:https://irishlimousin.com/wp-content/uploads/2024/08/Roundhill-D-Ondine-1119.jpg
END:VEVENT
END:VCALENDAR