BEGIN:VCALENDAR
VERSION:2.0
PRODID:-//Irish Limousin - ECPv6.15.20//NONSGML v1.0//EN
CALSCALE:GREGORIAN
METHOD:PUBLISH
X-ORIGINAL-URL:https://irishlimousin.com
X-WR-CALDESC:Events for Irish Limousin
REFRESH-INTERVAL;VALUE=DURATION:PT1H
X-Robots-Tag:noindex
X-PUBLISHED-TTL:PT1H
BEGIN:VTIMEZONE
TZID:UTC
BEGIN:STANDARD
TZOFFSETFROM:+0000
TZOFFSETTO:+0000
TZNAME:UTC
DTSTART:20230101T000000
END:STANDARD
END:VTIMEZONE
BEGIN:VEVENT
DTSTART;VALUE=DATE:20240811
DTEND;VALUE=DATE:20240812
DTSTAMP:20260423T135939
CREATED:20240710T222232Z
LAST-MODIFIED:20240710T222232Z
UID:11932-1723334400-1723420799@irishlimousin.com
SUMMARY:National Limousin Show 2024
DESCRIPTION:Tullamore show hosts the National Limousin show on Sunday 11th August 2024 at the Butterfield Estate\, Blueball\, Tullamore\, Co. Offaly. \nCome along and see the best show cattle the breed has to offer as they compete to become the 2024 All Ireland Limousin Champion. \nA look at last years prize winners: \n\n		\n		\n			\n				\n			\n			\n				\n			\n			\n				\n			\n				\n				Knockcoolkeare Toffee
URL:https://irishlimousin.com/event/national-limousin-show-2024/
LOCATION:Tullamore Show\, Mough Or Greatwood\, Blue Ball\, Co. Offaly\, R35 E954\, R35E954\, Ireland
ATTACH;FMTTYPE=image/jpeg:https://irishlimousin.com/wp-content/uploads/2023/08/tm23ilim70-2-8559-scaled.jpg
END:VEVENT
BEGIN:VEVENT
DTSTART;TZID=UTC:20240816T130000
DTEND;TZID=UTC:20240816T143000
DTSTAMP:20260423T135939
CREATED:20240814T135113Z
LAST-MODIFIED:20240815T085930Z
UID:12128-1723813200-1723818600@irishlimousin.com
SUMMARY:Sale of the Kellcummeen Herd
DESCRIPTION:Purebred Limousin Cattle Clearance Sale of Tony Kelleher’s Kellcummeen Herd at Gortatlea Mart on Friday 16th August\, at approx. 1.00pm. \nAn opportunity to acquire deep pedigree Limousin females – these are exceptional breeding females \nDescription of cattle on offer: \nThree in-calf Purebred Limousin Cows \n* GREENACRES REGINA Tag # 213637420683 \nRegina’s sire is EBY out of a Kaprico Eravelle cow. \nOct 2020 born cow. \n\n5* Replacement Index\n5* Daughter Milk\n5* Gestation\n5* Docility\n5* Carcass Confirmation\n9% Calving ease\, below the breed average\n\nDue 5th Sept ‘24 to Grangeford  JoJo \n* KELLCUMMEEN RUBY Tag # 213406440181 \nRuby’s sire is Highlander out of a Castleview Gazelle cow. \n\n5* Carcass Confirmation\n5* Daughter Calving Interval\n4* Terminal Index\n5 Calving ease\, below the breed average\nDue: 5th Nov ‘24 to Alfy or Emerson S1052\n\nRuby’s sire is Highlander out of a Castleview Gazelle cow. \n* KELLCUMMEEN REGINA Tag # 213406490186 \nRegina’s sire is Kellcummeen Pablo out of a  Highlander cow. \nOctober 2020 born cow \n\n5* Carcass Weight\n5* Carcass Confirmation\n\nDue 20th August 24 to Grenache LM 4351 \n  \n\nCows with Calves at foot \n* TAWNIES RILEY Tag # 219176620444 \nRiley’s Sire is EDAKKYA\, out of a BALLYGARVAN STUD GARCIA cow. \nRiley has \n\n5* Carcass Weight\n5* Carcass Confirmation\n5* Docility\n7% Calving ease\n\nRiley was born in March 2020. \nRiley’s sells with a 3-month PBR heifer calf at foot (KELLCUMMEEN VICKY\, Tag # 213406480210) \nVicky was born on 19th May ’24. Her sire is EBY. \nVicky has \n\n5* Carcass Confirmation\n5* Daughter Calving Interval\n4* Terminal Index\n\n\n* GABERIAL MINDY Tag # 141187810284 \nMindy’s sire is CASTLEVIEW GAZELLE (ZAG) out of a WILODGE FASTRAC cow \nMindy was born in July 2017 \nMindy has \n\n5* Carcass Weight\n5* Carcass Confirmation\n5* Daughter Calving Interval\n\nMindy sells with a bull calf KELLCUMMEEN VICTOR (born 23rd May ’24) at foot \nVictor is by EDAKKYA. \nVictor has: \n\n5* Terminal Index\n4* Replacement Index\n5* Gestation\n5* Docility\n5* Carcass Weight\n5* Carcass Confirmation\n5* Daughter Calving Interval\n6% Calving ease\n\n\n*KELLCUMMEEN SUZZI Tag # 213406450190 \nSuzzi’s sire is Excel out of an  AMPERTAINE ELGIN cow \nSuzzi  was born on Sept 2021 \nShe has: \n\n5* Terminal Index\n5* Dairy Beef Index\n5* Carcass Conformation\n5* Docility\nCalving Ease 4.4%\n\nSuzzi sells with a PBR heifer calf KELLCUMMEEN VERONICA at foot (born 1st Feb ’24)\, Tag #   213406450208 \nVeronica’s sire is EREBOS. \nVeronica has : \n\n5* Replacement Index\n5* Carcass Weight\n5* Carcass Confirmation\n5* Daughter Calving Interval\nCalving ease 3.1%\n\n*WOOD ROAD LUCIA ET\, Tag # 2412416 51878 \nLucia’s sire is AMPERTAINE GIGOLO out of the famous Claque cow by Apache. Claque has 32 pedigree calves registered to her. \nLucia was born in Sept 2016. \nLucia has: \n\n4* Replacement index\n5* Carcass Weight\n5* Carcass Conformation\n5* Docility\nCalving ease 3.3%\nLucia needs a bull to get back in calf.\n\n\nSophie was born on 2nd May 2021. She a daughter of EDAKKYA and Gaberial Mindy \nSophie has: \n\n5* Carcass Weight\n5* Carcass Confirmation\n5* Daughter Calving Interval\n5* Docility\nCalving ease 2.6%\n\n 
URL:https://irishlimousin.com/event/sale-of-the-kellcummeen-herd/
LOCATION:Gortatlea Mart\, Ballymacelligott\, Co. Kerry\, V92CY98\, Ireland
ATTACH;FMTTYPE=image/jpeg:https://irishlimousin.com/wp-content/uploads/2024/08/Kellcummen-herd-cow.jpg
END:VEVENT
BEGIN:VEVENT
DTSTART;TZID=UTC:20240817T090000
DTEND;TZID=UTC:20240817T170000
DTSTAMP:20260423T135939
CREATED:20240809T164841Z
LAST-MODIFIED:20240809T164841Z
UID:12034-1723885200-1723914000@irishlimousin.com
SUMMARY:Limousin Breeding Heifer of the Year Competition in association with Cappamore Show
DESCRIPTION:Class 22 at Cappamore Show is the Limousin Breeding Heifer of the Year which is held in association with the Irish Limousin Society. \nThis class has a prize fund in excess of €1000. Confined to non-pedigree heifers with no permanent teeth on Show Day. Must state LMX on card and display strong Limousin characteristics. Animals will be judged on potential to produce a calf for high priced markets. \nTo enter ⇒Click here to go to Cappamore show website⇐  \nThe show offers many cattle classes with great prize money on offer. Entries close next Wednesday the 14th of August. \nOther Classes\nPedigree Limousin: \n\nClass 40: Pedigree Male\, born on or after 1st Sept. 2023 to 31st December 2023\nClass 41: Pedigree Female\, born on or after 1st Sept. 2023 to 31st December 2023\nClass 42: Pedigree Male\, born after 1st Jan. 2024\nClass 43: Pedigree Female\, born after 1st Jan. 2024\nClass 44: Pedigree Heifer\, born after 1st Jan 2022 to 31 Aug 2023\nClass 45: Bonny Baby Pedigree Male or Female Calf born on or after 1st March 2024\nClass 46:  Limousin Champion\, open to 1st Prize winners in classes 40-45\n\n\nGates opened to the Public at 11am \n\n\nCappamore Show 2024\nCappamore Show will take place on 17th August 2024.  A Family Fun Day for all the Family \n  \n\n 
URL:https://irishlimousin.com/event/limousin-breeding-heifer-of-the-year-competition-in-association-with-cappamore-show/
LOCATION:Cappamore show\, Ballyvorheen\, Kyle\, Co. Limerick\, JJQX+WV\, Ireland
ATTACH;FMTTYPE=image/jpeg:https://irishlimousin.com/wp-content/uploads/2019/08/IMG_8616-scaled.jpg
END:VEVENT
BEGIN:VEVENT
DTSTART;TZID=UTC:20240817T130000
DTEND;TZID=UTC:20240817T170000
DTSTAMP:20260423T135939
CREATED:20240802T094859Z
LAST-MODIFIED:20240808T155245Z
UID:12006-1723899600-1723914000@irishlimousin.com
SUMMARY:80+ to sell at Coolrain Pedigree Limousin Herd (Est. 1999) Dispersal Sale
DESCRIPTION:Dispersal of all females: incalf and/or calf at foot to include:\n\n10 Cows (LMx\, LM:BB Hybrid & Pedigree LM – some with BB calves & 1 Pedigree Aubrac)\n15 Pedigree Limousin incalf Cows\n10 Pedigree Limousin Heifers (incalf/served & 2 maiden)\n20 Pedigree Limousin Cows with calves at foot\nNumber of Pedigree Limousin and LM:BB Hybrid weanling/yearling heifers\n 5 Pedigree Limousin Embryos including 2 from the €20k Trueman Rosanna\n\n\n\nClick here for Catalogue of 66 lots\nViewing welcome by appointment between 12th to 15th August.\nContact/Info: Gearoid Kennedy +353 (0)879222321\nBidding: Ringside and online via MARTBIDS (please ensure to register in advance of the sale*)\n\n\nCentral Auctions\, Roscrea Livestock Mart\, Parkmore Industrial Estate\, Roscrea\, Co. Tipperary. E53 F223.\n\nAuctioneer: Mr. Denis Barrett\n\n\n\n\n\n***1 Free Embryo: To qualify for draw->\nA). Register on MARTBIDS before sale date &\nB). Successfully purchase any lot.
URL:https://irishlimousin.com/event/80-to-sell-at-coolrain-pedigree-limousin-herd-est-1999-dispersal-sale/
LOCATION:Roscrea Mart\, Co. Tipperary\, Parkmore Industrial Estate\, Roscrea\, Co. Tipperary\, E53 F223\, Ireland
ATTACH;FMTTYPE=image/png:https://irishlimousin.com/wp-content/uploads/2024/08/Coolrain-herd.png
END:VEVENT
BEGIN:VEVENT
DTSTART;TZID=UTC:20240830T190000
DTEND;TZID=UTC:20240830T220000
DTSTAMP:20260423T135939
CREATED:20240818T133512Z
LAST-MODIFIED:20240818T133623Z
UID:12189-1725044400-1725055200@irishlimousin.com
SUMMARY:Lisna Herd Heifer Sale
DESCRIPTION:Sale of 28 Pedigree heifers and 22 commercial heifers from the Lisna herd of Dermot Shaughnessy. \n⇒For catalogue please click here⇐\nRegister to bid\nRegister to bid with Gort Mart – (091) 631 204. \nFor Online bidding use the LSL app. All sale conditions are in the catalogue. \nHealth Status:\n\nAll heifers are vaccinated for colstridial disease\nJohne’s free herd as of March 2024\nAll heifers scanned for breeding\nAll heifers eligible for export testing\nAll genotyped and sire verified\nAll can be export tested\nHerd TB-free for over 30 years.\n\n 
URL:https://irishlimousin.com/event/lisna-herd-heifer-sale/
LOCATION:Gort Mart\, Ballybawn\, Gort\, Co. Galway\, 53°02'51.1"N 8°50'10.2"W\, Ireland
ATTACH;FMTTYPE=image/jpeg:https://irishlimousin.com/wp-content/uploads/2024/08/Lisna-heifer-sale-Lot-4.jpg
END:VEVENT
END:VCALENDAR