BEGIN:VCALENDAR
VERSION:2.0
PRODID:-//Irish Limousin - ECPv6.15.20//NONSGML v1.0//EN
CALSCALE:GREGORIAN
METHOD:PUBLISH
X-WR-CALNAME:Irish Limousin
X-ORIGINAL-URL:https://irishlimousin.com
X-WR-CALDESC:Events for Irish Limousin
REFRESH-INTERVAL;VALUE=DURATION:PT1H
X-Robots-Tag:noindex
X-PUBLISHED-TTL:PT1H
BEGIN:VTIMEZONE
TZID:UTC
BEGIN:STANDARD
TZOFFSETFROM:+0000
TZOFFSETTO:+0000
TZNAME:UTC
DTSTART:20230101T000000
END:STANDARD
END:VTIMEZONE
BEGIN:VEVENT
DTSTART;TZID=UTC:20240705T080000
DTEND;TZID=UTC:20240705T170000
DTSTAMP:20260423T121140
CREATED:20240604T094851Z
LAST-MODIFIED:20240604T094851Z
UID:11815-1720166400-1720198800@irishlimousin.com
SUMMARY:Entries now open for Tullamore Show
DESCRIPTION:Schedule of classes for 2024 are open for entries\, this is the 33rd National Limousin show. Tullamore show will be held on  Sunday 11th August 2024 at Butterfield Estate\, Blueball\, Tullamore\, Co. Offaly. We would like to thank all sponsors for Limousin classes. \nPlease note Entries close on Friday July 5th\nEntries can be made on Tullamore show website: www.tullamoreshow.com \nList of Limousin Classes for the 33rd National Limousin Show:\nClass 58: Limousin Junior Young Handler – Junior – 12 to 16 Years (Turning 17 years old during 2024 deems you a Senior Competitor) \nClass 59: Limousin Senior Young Handler – Senior – 17 to 25 years (Turning 26 years old during 2024 deems you ineligible) \nClass 60: National Pedigree Registered Limousin Bull Born before 31/12/2022 \nClass 61: National Pedigree Registered Limousin Bull Born on/between 01.01.2023 and 30.04.2023 \nClass 62: National Pedigree Registered Limousin Bull Born on/between 01.05.2023 and 31.08.2023 \nClass 63: National Pedigree Registered Limousin Bull Born on/between 01.09.2023 and 31.10.2023 \nClass 64: National Livestock Show Pedigree Registered Pedigree Limousin Bull Born on/between 01.11.2023 and 31.12.2023 \nClass 65: National Livestock Show Limousin Bull Born in 2024 \nClass 66:  National Registered Pedigree Junior Limousin Male Champion* \nClass 67:  National Pedigree Registered Senior Limousin Male Champion* \nClass 68:  FBD National Livestock Show Pedigree Registered Limousin Male Champion* \nClass 70: National Pedigree Registered Limousin Cow calved or incalf or incalf senior heifer born before the 01.01.2022 (Calf at foot must be born on/after 01.01.2024) \nClass 71: National Pedigree Registered Limousin Heifer Born on/between 01.01.2022 and 30.06.2022 \nClass 72: National Pedigree Registered Limousin Heifer Born on/between 01.07.2022 and 31.12.2022 \nClass 73: National Pedigree Registered Limousin Heifer Born on/between 01.01.2023 and 31.03.2023 \nClass 74: National Pedigree Registered Pedigree Limousin Heifer Born on/between 01.04.2023 and 31.08.2023 \nClass 75: National Livestock Show Pedigree Registered Pedigree Limousin Heifer Born on/between 01.09.2023 and 31.10.2023 \nClass 76: National Livestock Show Limousin Heifer Born on/between 01.11.2023 and 31.12.2023 \nClass 77: National Livestock Show Pedigree Registered Limousin Heifer Calf born in 2024 \nClass 78:  National Pedigree Registered Junior Limousin Female Champion* \nClass 79:  National Pedigree Registered Senior Limousin Female Champion* \nClass 80:  FBD National Livestock Show Pedigree Registered Limousin Female Champion* \nClass 81: National Livestock Show Pair of Pedigree Registered Limousin \nClass 82:  FBD National Livestock Show Pedigree Registered Limousin Supreme Champion* \n 
URL:https://irishlimousin.com/event/entries-now-open-for-tullamore-show/
LOCATION:Blueball Estate\, Blueball\, Tullamore\, R35YE67\, Ireland
ATTACH;FMTTYPE=image/jpeg:https://irishlimousin.com/wp-content/uploads/2023/08/tm23ilim70-2-8559-scaled.jpg
ORGANIZER;CN="Tullamore Show":MAILTO:info@tullamoreshow.com
END:VEVENT
BEGIN:VEVENT
DTSTART;TZID=UTC:20240714T080000
DTEND;TZID=UTC:20240714T170000
DTSTAMP:20260423T121140
CREATED:20240621T171037Z
LAST-MODIFIED:20240621T171037Z
UID:11871-1720944000-1720976400@irishlimousin.com
SUMMARY:DUNGARVAN AGRICULTURAL SHOW
DESCRIPTION:The 105th Dungarvan show takes place on Sunday July 14th in Ballygagin\, County Waterford. \nFantastic classes and prize money available for exhibitors on the day. \nClick here for Entries which are now open
URL:https://irishlimousin.com/event/dungarvan-agricultural-show/
LOCATION:Ballygagin Dungarvan Waterford\, Ireland
ATTACH;FMTTYPE=image/jpeg:https://irishlimousin.com/wp-content/uploads/2024/06/Dungarvan-agri-show.jpg
END:VEVENT
BEGIN:VEVENT
DTSTART;TZID=UTC:20240720T133000
DTEND;TZID=UTC:20240720T160000
DTSTAMP:20260423T121140
CREATED:20231220T125645Z
LAST-MODIFIED:20240703T122227Z
UID:11312-1721482200-1721491200@irishlimousin.com
SUMMARY:Catalogue - Milan Pedigree herd Dispersal sale
DESCRIPTION:Click here for: Catalogue of entire females of the Milan Limousin herd on behalf of Donie and Maura McKeon. \nSaturday July 20th 2024 at 1.30pm in Elphin Mart and online at Martbids. \nThe Department of Agriculture will be present to facilitate the movement of cattle purchased by Northern Ireland based customers on sale day. \nThe herd held an open day in June 2024 – click here for the report \nBelow are pictures of some of the cattle bred by Donie and Maura….\n  \nMILAN NATALIA \nMilan Nigella \n  \nMilan Mario \nChampion at Glenamaddy \n  \nBelow are the cattle at this years open day – held on the 30th of June
URL:https://irishlimousin.com/event/catalogue-milan-pedigree-herd-dispersal-sale/
LOCATION:Elphin Livestock Mart\, Palace Road\, Roscommon\, F45W672\, Ireland
ATTACH;FMTTYPE=image/jpeg:https://irishlimousin.com/wp-content/uploads/2024/07/lot-four.jpg
END:VEVENT
END:VCALENDAR