BEGIN:VCALENDAR
VERSION:2.0
PRODID:-//Irish Limousin - ECPv6.15.20//NONSGML v1.0//EN
CALSCALE:GREGORIAN
METHOD:PUBLISH
X-WR-CALNAME:Irish Limousin
X-ORIGINAL-URL:https://irishlimousin.com
X-WR-CALDESC:Events for Irish Limousin
REFRESH-INTERVAL;VALUE=DURATION:PT1H
X-Robots-Tag:noindex
X-PUBLISHED-TTL:PT1H
BEGIN:VTIMEZONE
TZID:UTC
BEGIN:STANDARD
TZOFFSETFROM:+0000
TZOFFSETTO:+0000
TZNAME:UTC
DTSTART:20210101T000000
END:STANDARD
END:VTIMEZONE
BEGIN:VTIMEZONE
TZID:Europe/Dublin
BEGIN:STANDARD
TZOFFSETFROM:+0000
TZOFFSETTO:+0100
TZNAME:IST
DTSTART:20210328T010000
END:STANDARD
BEGIN:DAYLIGHT
TZOFFSETFROM:+0100
TZOFFSETTO:+0000
TZNAME:GMT
DTSTART:20211031T010000
END:DAYLIGHT
BEGIN:STANDARD
TZOFFSETFROM:+0000
TZOFFSETTO:+0100
TZNAME:IST
DTSTART:20220327T010000
END:STANDARD
BEGIN:DAYLIGHT
TZOFFSETFROM:+0100
TZOFFSETTO:+0000
TZNAME:GMT
DTSTART:20221030T010000
END:DAYLIGHT
BEGIN:STANDARD
TZOFFSETFROM:+0000
TZOFFSETTO:+0100
TZNAME:IST
DTSTART:20230326T010000
END:STANDARD
BEGIN:DAYLIGHT
TZOFFSETFROM:+0100
TZOFFSETTO:+0000
TZNAME:GMT
DTSTART:20231029T010000
END:DAYLIGHT
BEGIN:STANDARD
TZOFFSETFROM:+0000
TZOFFSETTO:+0100
TZNAME:IST
DTSTART:20240331T010000
END:STANDARD
BEGIN:DAYLIGHT
TZOFFSETFROM:+0100
TZOFFSETTO:+0000
TZNAME:GMT
DTSTART:20241027T010000
END:DAYLIGHT
END:VTIMEZONE
BEGIN:VEVENT
DTSTART;VALUE=DATE:20231209
DTEND;VALUE=DATE:20231210
DTSTAMP:20260422T062939
CREATED:20231121T000442Z
LAST-MODIFIED:20231202T152717Z
UID:11211-1702080000-1702166399@irishlimousin.com
SUMMARY:Athenry December show and sale
DESCRIPTION:The second autumn pedigree sale takes place on Saturday\, December 9th\, in Athenry Mart\, Galway. \nThe show will begin at 9:00am followed by the sale at 12:30pm. \nThere are 59 bulls and 2 heifers catalogued. \n⇒To view the catalogue\, click HERE⇐  The Catalogue figures are now updated after the evaluation rerun.
URL:https://irishlimousin.com/event/athenry-december-show-and-sale/
LOCATION:Athenry Mart\, Athenry Co-operative Livestock Mart\, Prospect\, Athenry\, Co. Galway\, D12 YXW5\, Ireland
ATTACH;FMTTYPE=image/jpeg:https://irishlimousin.com/wp-content/uploads/2022/12/ilim22ant-dec-0990-scaled.jpg
END:VEVENT
BEGIN:VEVENT
DTSTART;VALUE=DATE:20231206
DTEND;VALUE=DATE:20231207
DTSTAMP:20260422T062939
CREATED:20231116T231919Z
LAST-MODIFIED:20231116T231919Z
UID:11168-1701820800-1701907199@irishlimousin.com
SUMMARY:Special sale of Beef cows
DESCRIPTION:Special sale\n\n\nPrize money for LM or LMX cow that makes best price per kilo.\n\n\n\nBest LM cow sponsored by the Irish Limousin Cattle Society:\n\n€100 to seller\n€50 to buyer\n\n\n\nAll leading customers will be in attendance.\n\nAll inquiries welcome:\n\n\n\nAdam 0863556945\nNelius 0862534430
URL:https://irishlimousin.com/event/special-sale-of-beef-cows/
LOCATION:Castleisland mart\, Old Chapel Lane\, Castleisland\, Kerry\, v92 kw92\, Ireland
ATTACH;FMTTYPE=image/jpeg:https://irishlimousin.com/wp-content/uploads/2019/06/Daniel-and-Michael-Thuery-On-Dit-cull-cow-rs-1.jpg
END:VEVENT
BEGIN:VEVENT
DTSTART;VALUE=DATE:20231204
DTEND;VALUE=DATE:20231205
DTSTAMP:20260422T062939
CREATED:20231120T151933Z
LAST-MODIFIED:20231129T111159Z
UID:11200-1701648000-1701734399@irishlimousin.com
SUMMARY:North West Club - December Elite Heifer Sale
DESCRIPTION:NW Limousin are hosting their annual Elite Heifer Sale in Elphin Mart on Monday evening the 4th of December \nTwenty one heifers on offer \n⇒Click here for Catalogue ⇐  \nMoney back on top price heifers on the night to sell under the hammer \nSale ~6.30pm
URL:https://irishlimousin.com/event/north-west-club-december-elite-heifer-sale/
LOCATION:Elphin Livestock Mart\, Palace Road\, Roscommon\, F45W672\, Ireland
ATTACH;FMTTYPE=image/jpeg:https://irishlimousin.com/wp-content/uploads/2021/12/Lot-5-stood-2.jpg
END:VEVENT
BEGIN:VEVENT
DTSTART;TZID=UTC:20231118T180000
DTEND;TZID=UTC:20231118T180000
DTSTAMP:20260422T062939
CREATED:20231101T154257Z
LAST-MODIFIED:20231101T154454Z
UID:11129-1700330400-1700330400@irishlimousin.com
SUMMARY:Annual General Meeting
DESCRIPTION:Notice is hereby given that the Annual General Meeting of the Irish Limousin Cattle Society Ltd will take place on Saturday 18th November 2023 in the Bridge House Hotel\, Tullamore at 6pm.
URL:https://irishlimousin.com/event/annual-general-meeting/
LOCATION:Bridge House Hotel\, Bridge St\, Tullamore\, Co. Offaly\, Bridge Street\, Tullamore
ATTACH;FMTTYPE=image/png:https://irishlimousin.com/wp-content/uploads/2022/04/IrishLimo-logonew.png
END:VEVENT
BEGIN:VEVENT
DTSTART;VALUE=DATE:20231118
DTEND;VALUE=DATE:20231119
DTSTAMP:20260422T062939
CREATED:20231018T103700Z
LAST-MODIFIED:20231103T131417Z
UID:11046-1700265600-1700351999@irishlimousin.com
SUMMARY:Cavelands herd Reduction Sale
DESCRIPTION:Reduction sale of the Cavelands Limousin herd of Paul Sykes \nTuam mart \nSaturday 18th November at 1 pm \n23 Females and 3 Males \n⇒Catalogue Click here⇐\nThe Cavelands herd was established in 1984 and has steadily expanded to over twenty breeding females through the use of the best French UK and Irish genetics available\, our blood lines include\, Bavardage\, On Dit\, Usse\, Ronick Hawk\, Mereside Godolphin\, Ampertaine Foreman\, Cavelands Jolly\, EBY\, Edenvale Ivor\, Grangeford JoJo and Plumtree Fantastic. The emphasis has always been on good functionality breed characteristics\, docility\, milk and good conformation. \nUnfortunately we recently lost a considerable parcel of land which had been rented for many years and with great reluctance we have taken the difficult decision to offer for sale all of our maiden heifers which have been born over the last three years. \nThis sale offers an opportunity for both existing breeders and new entrants to acquire genuine females with a depth of back breeding of proven genetics many of which are no longer available. \nWe are also consigning a small number of bulls which once again have top genetics\, easy calving\, qualify for the SCEPs scheme and most importantly have good conformation. \nThe sale also includes a number of females from our neighbouring Drimabbey herd. \nThe herd is Johnes risk level 1\, WHPR recorded\, all females are scanned suitable for breeding and Lepto vaccinated\, the males are fertility tested. The herd was TB tested on 9th September. \nWe would like to wish all perspective buyers the best of luck and hope have as much enjoyment as I have experienced over the last 39 years with the Limousin breed. \n  \n 
URL:https://irishlimousin.com/event/cavelands-herd-reduction-sale/
LOCATION:Tuam Mart\, H54 RR50
ATTACH;FMTTYPE=image/jpeg:https://irishlimousin.com/wp-content/uploads/2023/10/Paul-Sykes.jpg
END:VEVENT
BEGIN:VEVENT
DTSTART;VALUE=DATE:20231117
DTEND;VALUE=DATE:20231118
DTSTAMP:20260422T062939
CREATED:20231031T001416Z
LAST-MODIFIED:20231031T001739Z
UID:11078-1700179200-1700265599@irishlimousin.com
SUMMARY:Clare Club Heifer Sale
DESCRIPTION:The Clare Limousin Club Heifer Sale will take place on Friday\, November 17th\, at Sixmilebridge Mart\, at 7:00pm. \n⇒For Catalogue click here⇐
URL:https://irishlimousin.com/event/clare-club-heifer-sale/
LOCATION:V95 CY90\, Sixmilebridge Livestock Mart\, Rathmore\, Sixmilebridge\, Clare\, V95 CY90
ATTACH;FMTTYPE=image/jpeg:https://irishlimousin.com/wp-content/uploads/2023/09/Clare-club-cover-photo.jpg
END:VEVENT
BEGIN:VEVENT
DTSTART;VALUE=DATE:20231106
DTEND;VALUE=DATE:20231107
DTSTAMP:20260422T062939
CREATED:20231031T002740Z
LAST-MODIFIED:20231031T002740Z
UID:11081-1699228800-1699315199@irishlimousin.com
SUMMARY:Limousin Livestock for sale in Granard Mart
DESCRIPTION:Selling at Granard Mart Monday 6th. November \n\n6 Pedigree cows \n\n\n4 commercial cows (all scanned in calf) \n\n\n1 x 6 year old Limousin Bull \nCalf 8 months \n\n\n1 x 18 month old maiden heifer
URL:https://irishlimousin.com/event/limousin-livestock-for-sale-in-granard-mart/
LOCATION:Granard Farmers Mart\, Granard\, Co. Longford
ATTACH;FMTTYPE=image/jpeg:https://irishlimousin.com/wp-content/uploads/2023/07/IMG_4591-scaled.jpg
END:VEVENT
BEGIN:VEVENT
DTSTART;VALUE=DATE:20231030
DTEND;VALUE=DATE:20231031
DTSTAMP:20260422T062939
CREATED:20231005T115003Z
LAST-MODIFIED:20231020T124502Z
UID:10983-1698624000-1698710399@irishlimousin.com
SUMMARY:Roscrea Bank Holiday Premier Sale - Catalogue out now
DESCRIPTION:Premier sale of 96 males and 23 Females.\nBank Holiday Monday 30th October 2023.\nShow 8 am – Sale 12.30 pm in Roscrea Mart\, Co. Tipperary and online at Martbids. \n⭐High Health Status – all cattle are from herds participating in CheCS accredited Johnes Herd Testing Programmes. \n⭐All bulls sold under bull Fertility insurance Scheme. \n⭐New Bull Subsidy Scheme \n\n€300 back to purchaser for every bull sold for over €4\,000\n€400 back to purchaser for every bull sold for over €4\,500\n\n⭐Free delivery to central location in Northern Ireland. Export on the day – Northern Irish potential customers please ensure that your are registered on the Traces system with the N.I. Ministry of Agriculture. \nFollowing is an updated policy you need be aware of when importing or exporting stock directly from farms or marts to another EU country or Northern Ireland – Important notice to farmers and transporters trading or moving animals directly from farms or marts in Ireland  \nBULL Purchaser Finance Scheme\nFinance Available to Republic of Ireland based  customers towards the purchase of BULLS\, contact the society office (025-85036) for the relevant form in advance of the sale to facilitate approval. \n⇒ Catalogue click here
URL:https://irishlimousin.com/event/roscrea-bank-holiday-premier-sale/
LOCATION:Roscrea Mart\, Co. Tipperary\, Parkmore Industrial Estate\, Roscrea\, Co. Tipperary\, E53 F223\, Ireland
ATTACH;FMTTYPE=image/jpeg:https://irishlimousin.com/wp-content/uploads/2023/10/Ballybrown-Toby-Tullamore-show-2023.jpg
END:VEVENT
BEGIN:VEVENT
DTSTART;VALUE=DATE:20231018
DTEND;VALUE=DATE:20231019
DTSTAMP:20260422T062939
CREATED:20231010T212743Z
LAST-MODIFIED:20231010T212919Z
UID:11030-1697587200-1697673599@irishlimousin.com
SUMMARY:South West Club Commercial Breeding Heifer Sale
DESCRIPTION:Castleisland Mart \n4 and 5 Star Genotyped heifers available \nWednesday 18th October
URL:https://irishlimousin.com/event/south-west-club-commercial-breeding-heifer-sale/
ATTACH;FMTTYPE=image/jpeg:https://irishlimousin.com/wp-content/uploads/2021/07/1V8A2390-PD-scaled.jpg
END:VEVENT
BEGIN:VEVENT
DTSTART;TZID=Europe/Dublin:20230902T120000
DTEND;TZID=Europe/Dublin:20230902T180000
DTSTAMP:20260422T062939
CREATED:20230803T174844Z
LAST-MODIFIED:20230808T120008Z
UID:10873-1693656000-1693677600@irishlimousin.com
SUMMARY:South West and Cork Limousin Clubs: High Genetic Breeding Heifer Sale - 40 Quality Heifers and 8 Embryos
DESCRIPTION:South West and Cork Limousin Club’s high genetic breeding heifer sale\, consisting of 40 quality heifers and 8 embryos\, will take place at Roscrea Mart and online on Martbids.ie  on Saturday\, September 2nd\, 2023. Viewing will take place from 12.00pm with the sale commencing at 2.00pm. \nA catalogue can be viewed HERE. \nAccording to the organisers\, this sale will provide you with an excellent opportunity to purchase an elite\, high genetic breeding Limousin heifer. \nTransportation to Northern Ireland and mainland UK will be arranged. Herd health is critical for all breeder and is at the forefront for this sale. Dams of all heifers and heifers over 24 months are tested free of Johnes. Many of the heifers are from herds participating in a herd health program. \nFrom an index perspective\, this catalogue is one of the best group of heifers offered for sale for many years. If you are a new breeder\, the heifers offers you the opportunity to purchase your foundation female. There are heifers suitable for all enterprises including the show ring\, breeding the best pedigrees or commercials. \nThirty-one AI sires are represented in the catalogue providing a huge genetic selection. Many of these sires are in the top 1% for indexes such as Replacement\, Terminal\, Daughter’s milk and Gestation with the majority in the top 10% for different traits. \nFrom a Replacement perspective all heifers are at the upper end of the scale with 11 in the top 5% for heifers born in 2021/2022. \nFrom a Terminal perspective\, again all heifers are at the upper end of the scale with 9 in the top 5% for heifers born in 2021/2022. \nThe same quality is visible across other indexes: \n• 22 of the heifers are below the breed average for “Calving Ease”.\n• 28 are above the breed average for “Daughter Milk”. \nThere will be heifers available for everyone\, across all price ranges\, that suit all pockets \nSale Details\nSaturday\, 2nd September\, 2023: Viewing from 12.00; Sale at 2.00pm; \nRoscrea Mart and Online at Martbids.ie; \nEnquiries: Michael Roche 087 9452495; \nCatalogue can be viewed HERE.
URL:https://irishlimousin.com/event/south-west-and-cork-limousin-clubs-high-genetic-breeding-heifer-sale-40-quality-heifers-and-8-embryos/
ATTACH;FMTTYPE=image/jpeg:https://irishlimousin.com/wp-content/uploads/2023/08/Corcamore-Poppet-Poster.jpg
END:VEVENT
BEGIN:VEVENT
DTSTART;VALUE=DATE:20230813
DTEND;VALUE=DATE:20230814
DTSTAMP:20260422T062939
CREATED:20230606T181239Z
LAST-MODIFIED:20230606T181239Z
UID:10712-1691884800-1691971199@irishlimousin.com
SUMMARY:Tullamore National Livestock Show
DESCRIPTION:The schedule of classes for the 2023 National Livestock Show in Tullamore are open for entries. Please note\, entries close on July 3rd\, 2023. \nEntries can be made by clicking HERE.
URL:https://irishlimousin.com/event/tullamore-national-livestock-show/
ATTACH;FMTTYPE=image/jpeg:https://irishlimousin.com/wp-content/uploads/2023/06/lim22tm-6382-scaled.jpg
END:VEVENT
BEGIN:VEVENT
DTSTART;VALUE=DATE:20230520
DTEND;VALUE=DATE:20230521
DTSTAMP:20260422T062939
CREATED:20221216T183948Z
LAST-MODIFIED:20230511T103433Z
UID:10403-1684540800-1684627199@irishlimousin.com
SUMMARY:Roscommon Show & Sale
DESCRIPTION:The final spring 2023 show and sale will take place on May 20th in Roscommon Mart. There will be a total of 51 bulls and 7 heifers on offer. \nA catalogue can be viewed by clicking HERE. \nAdditionally\, there will be 10 heifers presented for sale by the Carrowreagh Herd – owned by Pat Bruen. \nA catalogue for these heifers is available HERE.
URL:https://irishlimousin.com/event/roscommon-show-sale/
ATTACH;FMTTYPE=image/jpeg:https://irishlimousin.com/wp-content/uploads/2022/12/ilim22rosc-nov-2296-scaled.jpg
END:VEVENT
BEGIN:VEVENT
DTSTART;VALUE=DATE:20230501
DTEND;VALUE=DATE:20230502
DTSTAMP:20260422T062939
CREATED:20221216T183349Z
LAST-MODIFIED:20230420T191408Z
UID:10399-1682899200-1682985599@irishlimousin.com
SUMMARY:Roscrea Premier Show & Sale
DESCRIPTION:The Irish Limousin Cattle Society has released the catalogue for the upcoming premier show and sale in Roscrea Mart on Bank Holiday Monday\, May 1st. \nThe catalogue contains 45 males and 18 females which can be viewed by clicking HERE.
URL:https://irishlimousin.com/event/roscrea-premier-show-sale/
ATTACH;FMTTYPE=image/jpeg:https://irishlimousin.com/wp-content/uploads/2022/12/ilim22rosc-nov-2607-scaled.jpg
END:VEVENT
BEGIN:VEVENT
DTSTART;VALUE=DATE:20230413
DTEND;VALUE=DATE:20230414
DTSTAMP:20260422T062939
CREATED:20221216T182631Z
LAST-MODIFIED:20230330T211748Z
UID:10394-1681344000-1681430399@irishlimousin.com
SUMMARY:Athenry Show & Sale
DESCRIPTION:Athenry Mart Show and Sale takes will take place on Thursday\, April 13th\, 2023. \nThere are some 62 bulls and 1 heifer catalogued for the sale – which can be viewed HERE.
URL:https://irishlimousin.com/event/athenry-mart-show-sale/
ATTACH;FMTTYPE=image/jpeg:https://irishlimousin.com/wp-content/uploads/2022/12/ilim22ant-7369-scaled.jpg
END:VEVENT
BEGIN:VEVENT
DTSTART;VALUE=DATE:20230311
DTEND;VALUE=DATE:20230312
DTSTAMP:20260422T062939
CREATED:20221216T182200Z
LAST-MODIFIED:20230222T212456Z
UID:10391-1678492800-1678579199@irishlimousin.com
SUMMARY:Elphin Premier Show & Sale
DESCRIPTION:Elphin Mart (Premier Sale) takes place on Saturday\, March 11th\, 2023. \nSee catalogue HERE!
URL:https://irishlimousin.com/event/elphin-premier/
ATTACH;FMTTYPE=image/jpeg:https://irishlimousin.com/wp-content/uploads/2022/12/ilim22elphin-mar-4200-scaled.jpg
END:VEVENT
BEGIN:VEVENT
DTSTART;TZID=Europe/Dublin:20221211T153000
DTEND;TZID=Europe/Dublin:20221211T173000
DTSTAMP:20260422T062939
CREATED:20221210T153225Z
LAST-MODIFIED:20221210T153400Z
UID:10367-1670772600-1670779800@irishlimousin.com
SUMMARY:Irish Limousin Cattle Society AGM
DESCRIPTION:Irish Limousin Cattle Society AGM to take place on Sunday\, December 11th\, in the Rackethall Hotel\, Tipperary\, at 3:30pm.
URL:https://irishlimousin.com/event/irish-limousin-society-agm/
ATTACH;FMTTYPE=image/jpeg:https://irishlimousin.com/wp-content/uploads/2022/12/ilim22elphin-mar-4774-scaled.jpg
END:VEVENT
BEGIN:VEVENT
DTSTART;VALUE=DATE:20221210
DTEND;VALUE=DATE:20221211
DTSTAMP:20260422T062939
CREATED:20220808T212547Z
LAST-MODIFIED:20221130T221235Z
UID:9603-1670630400-1670716799@irishlimousin.com
SUMMARY:Athenry Show & Sale
DESCRIPTION:The second autumn pedigree sale will take place on Saturday\, December 10th\, in Athenry Mart. The show will begin at 10:00am followed by the sale at 12:00pm. \nThere are 31 bulls catalogued. \nTo view the catalogue\, click HERE. 
URL:https://irishlimousin.com/event/athenry-sale/
ATTACH;FMTTYPE=image/jpeg:https://irishlimousin.com/wp-content/uploads/2022/08/ilim22elphin-mar-4880-scaled.jpg
END:VEVENT
BEGIN:VEVENT
DTSTART;TZID=Europe/Dublin:20221205T170000
DTEND;TZID=Europe/Dublin:20221205T210000
DTSTAMP:20260422T062939
CREATED:20221122T122219Z
LAST-MODIFIED:20221130T221952Z
UID:10253-1670259600-1670274000@irishlimousin.com
SUMMARY:North West Limousin Club Elite Heifer Sale
DESCRIPTION:The North West Limousin Club will be holding their annual Elite Heifer sale on Monday\, December 5th\, in Elphin Mart (F45W672) at 6pm. \nViewing of the heifers will take place from 5-6pm on the night. \nThe heifers been put forward for sale command a smashing background of top Limousin genetics. The buyers of the top 4 priced heifers on the night will receive €200 each in return. \nBidding will also be available on the night through Martbids.ie. Buyers must ensure they are registered to bid with Elphin mart prior to the sale by contacting the mart on (071) 963 5061. \nThe catalogue can be viewed HERE!
URL:https://irishlimousin.com/event/north-west-limousin-club-elite-heifer-sale/
LOCATION:Elphin Mart\, Elphin\, Roscommon\, F45 W672\, Ireland
ATTACH;FMTTYPE=image/jpeg:https://irishlimousin.com/wp-content/uploads/2022/11/My-project-1-scaled.jpg
END:VEVENT
BEGIN:VEVENT
DTSTART;TZID=Europe/Dublin:20221116T190000
DTEND;TZID=Europe/Dublin:20221116T220000
DTSTAMP:20260422T062939
CREATED:20221107T183852Z
LAST-MODIFIED:20221110T153444Z
UID:10195-1668625200-1668636000@irishlimousin.com
SUMMARY:Irish Limousin Cattle Society Annual General Meeting
DESCRIPTION:The Irish Limousin Cattle Society’s Annual General Meeting (AGM) will take place in the Racket Hall Hotel in Roscrea\, Co. Tipperary on Wednesday\, November 16th\, at 7:00pm. \nAgenda \n1. Minutes of preceding AGM\n2. President’s Report\n3. Presentation of Audited Annual Accounts and Auditors Report\n4. Election of Council Members\n5. Appointment of Auditors\n6. AOB \nNotice of Special General Meeting \nAn SGM of the Irish Limousin Cattle Society will be held upon the completion of the AGM on the 16th November 2022 in Racket Hall\, Roscrea\, Co. Tipperary. \nThe purpose of the meeting is to consider and if thought fit to adopt the following two proposals.\n1. A motion to disband the present Society Council in its entirety be proposed and a new Council to be elected by the members in accordance with the rules of the Society\n2. Arrange and select a committee to run the society affairs (temporarily) with office staff until the new council is elected and in Office
URL:https://irishlimousin.com/event/irish-limousin-cattle-society-annual-general-meeting/
LOCATION:Racket Hall Hotel\, Roscrea\, Tipperary\, Ireland
ATTACH;FMTTYPE=image/jpeg:https://irishlimousin.com/wp-content/uploads/2022/11/vector.jpg
END:VEVENT
BEGIN:VEVENT
DTSTART;TZID=Europe/Dublin:20221111T190000
DTEND;TZID=Europe/Dublin:20221111T220000
DTSTAMP:20260422T062939
CREATED:20221020T213406Z
LAST-MODIFIED:20221110T153752Z
UID:10114-1668193200-1668204000@irishlimousin.com
SUMMARY:Clare Limousin Club Pedigree Heifer Sale
DESCRIPTION:The Clare Limousin Club will host a pedigree heifer sale on Friday\, November 11th\, in Sixmilebridge Mart at 7:00pm. \nA ‘Mega Moo’ draw will also take place on the night. \nThere are 32 females entered in the sale and a catalogue can be viewed HERE!
URL:https://irishlimousin.com/event/clare-limousin-club-pedigree-heifer-sale/
LOCATION:Sixmilebridge Mart
ATTACH;FMTTYPE=application/pdf:https://irishlimousin.com/wp-content/uploads/2022/10/poster-Clare-Club.pdf
END:VEVENT
BEGIN:VEVENT
DTSTART;TZID=UTC:20221105T093000
DTEND;TZID=UTC:20221105T190000
DTSTAMP:20260422T062939
CREATED:20220923T103554Z
LAST-MODIFIED:20221025T200252Z
UID:9873-1667640600-1667674800@irishlimousin.com
SUMMARY:Roscrea Premier Sale
DESCRIPTION:The Roscrea Premier will take place on November 5th\, 2022. \nCatalogue HERE!
URL:https://irishlimousin.com/event/roscrea-premier-sale/
LOCATION:Roscrea Mart\, Co. Tipperary\, Parkmore Industrial Estate\, Roscrea\, Co. Tipperary\, E53 F223\, Ireland
ATTACH;FMTTYPE=image/jpeg:https://irishlimousin.com/wp-content/uploads/2022/04/ilim22ant-7303-scaled-1.jpg
END:VEVENT
BEGIN:VEVENT
DTSTART;VALUE=DATE:20220930
DTEND;VALUE=DATE:20221002
DTSTAMP:20260422T062939
CREATED:20220725T090110Z
LAST-MODIFIED:20220923T140415Z
UID:9547-1664496000-1664668799@irishlimousin.com
SUMMARY:50th Anniversary Show & Sale
DESCRIPTION:Carrick-On-Shannon 50th Anniversary Show & Sale Schedule \nSaturday\, October 1st\, 2022: Commercial Classes \nSaturday\, October 1st\, 2022: Pedigree Classes \nSaturday\, October 1st\, 2022: ‘Mega Moo’ €10\,000 Heifer Competition \nCarrick-On-Shannon 50th Anniversary Shows & Sale Entry Forms \nCommercial Classes Entry Form \nPedigree Classes Entry Form \nPre inspected Elite Heifer Sale Form \nTerms and Conditions \nExhibitor’s Letter
URL:https://irishlimousin.com/event/50th-anniversary-show-sale/
LOCATION:Carrick-On-Shannon
ATTACH;FMTTYPE=image/jpeg:https://irishlimousin.com/wp-content/uploads/2022/07/ilim22-thurles-7174-scaled-1.jpg
END:VEVENT
BEGIN:VEVENT
DTSTART;VALUE=DATE:20220814
DTEND;VALUE=DATE:20220815
DTSTAMP:20260422T062939
CREATED:20220725T084837Z
LAST-MODIFIED:20220725T085743Z
UID:9538-1660435200-1660521599@irishlimousin.com
SUMMARY:Limousin National Championships
DESCRIPTION:Entries now accepted. To enter click HERE
URL:https://irishlimousin.com/event/limousin-national-championships/
LOCATION:Tullamore\, Co. Offaly
ATTACH;FMTTYPE=image/jpeg:https://irishlimousin.com/wp-content/uploads/2022/07/ilim22elphin-mar-4619-scaled-1.jpg
END:VEVENT
END:VCALENDAR