BEGIN:VCALENDAR
VERSION:2.0
PRODID:-//Irish Limousin - ECPv6.15.20//NONSGML v1.0//EN
CALSCALE:GREGORIAN
METHOD:PUBLISH
X-ORIGINAL-URL:https://irishlimousin.com
X-WR-CALDESC:Events for Irish Limousin
REFRESH-INTERVAL;VALUE=DURATION:PT1H
X-Robots-Tag:noindex
X-PUBLISHED-TTL:PT1H
BEGIN:VTIMEZONE
TZID:UTC
BEGIN:STANDARD
TZOFFSETFROM:+0000
TZOFFSETTO:+0000
TZNAME:UTC
DTSTART:20240101T000000
END:STANDARD
END:VTIMEZONE
BEGIN:VTIMEZONE
TZID:Europe/Dublin
BEGIN:STANDARD
TZOFFSETFROM:+0000
TZOFFSETTO:+0100
TZNAME:IST
DTSTART:20240331T010000
END:STANDARD
BEGIN:DAYLIGHT
TZOFFSETFROM:+0100
TZOFFSETTO:+0000
TZNAME:GMT
DTSTART:20241027T010000
END:DAYLIGHT
BEGIN:STANDARD
TZOFFSETFROM:+0000
TZOFFSETTO:+0100
TZNAME:IST
DTSTART:20250330T010000
END:STANDARD
BEGIN:DAYLIGHT
TZOFFSETFROM:+0100
TZOFFSETTO:+0000
TZNAME:GMT
DTSTART:20251026T010000
END:DAYLIGHT
BEGIN:STANDARD
TZOFFSETFROM:+0000
TZOFFSETTO:+0100
TZNAME:IST
DTSTART:20260329T010000
END:STANDARD
BEGIN:DAYLIGHT
TZOFFSETFROM:+0100
TZOFFSETTO:+0000
TZNAME:GMT
DTSTART:20261025T010000
END:DAYLIGHT
END:VTIMEZONE
BEGIN:VEVENT
DTSTART;TZID=UTC:20250725T190000
DTEND;TZID=UTC:20250725T210000
DTSTAMP:20260423T181927
CREATED:20250720T195942Z
LAST-MODIFIED:20250721T122230Z
UID:13590-1753470000-1753477200@irishlimousin.com
SUMMARY:North Eastern Limousin Club Farm Walk
DESCRIPTION:Farm Walk Alert! 🐂 \n🏵️The North Eastern Limousin Club invites breeders to a farm walk at Paul Callanan’s prize-winning herd in Boherquill\, Lismacaffrey\, Co. Westmeath. \n⌚Walk will commence at 7 pm on Friday\, July 27th. \nRefreshments will be served! ☕🍪 \n 
URL:https://irishlimousin.com/event/north-eastern-limousin-club-farm-walk/
LOCATION:N91HP27\, Boherquill\, Lismacaffery\, Co. Westmeath\, N91HP27
ATTACH;FMTTYPE=image/jpeg:https://irishlimousin.com/wp-content/uploads/2025/07/North-East-Limousin-Club-open-day-2025.jpg
END:VEVENT
BEGIN:VEVENT
DTSTART;TZID=UTC:20250727T080000
DTEND;TZID=UTC:20250727T170000
DTSTAMP:20260423T181927
CREATED:20250616T131004Z
LAST-MODIFIED:20250616T131004Z
UID:13499-1753603200-1753635600@irishlimousin.com
SUMMARY:Clare Limousin Club Calf Finals 2025
DESCRIPTION:📆 Clare calf finals for 2025 will be held at the South East Clare Show in Bridgetown on the 27th of July. \n📞 Any queries contact Rachel Moloney 087 7557876 \nClasses for the 2025 Clare Limousin Club Calf Finals as follows:
URL:https://irishlimousin.com/event/clare-limousin-club-calf-finals-2025/
LOCATION:South East Clare Show\, Bridgetown\, Clare\, V94YT3F\, Ireland
ATTACH;FMTTYPE=image/jpeg:https://irishlimousin.com/wp-content/uploads/2025/06/winning-calf.jpg
END:VEVENT
BEGIN:VEVENT
DTSTART;TZID=UTC:20250810T080000
DTEND;TZID=UTC:20250810T170000
DTSTAMP:20260423T181927
CREATED:20250513T132411Z
LAST-MODIFIED:20250513T132504Z
UID:13344-1754812800-1754845200@irishlimousin.com
SUMMARY:2025 Limousin National Show - Tullamore
DESCRIPTION:The National Limousin Show 2025 in conjunction with Tullamore Show! 🐂 \nThink your cattle have what it takes? 💪 Keep an eye out for entry deadlines\, full class lists etc.. \n👑 Who will be crowned the 2025 National Supreme Champion? \n📅 Don’t miss it – the countdown is on!⌛ \n 
URL:https://irishlimousin.com/event/2025-limousin-national-show-tullamore/
LOCATION:Blueball Estate\, Blueball\, Tullamore\, R35YE67\, Ireland
ATTACH;FMTTYPE=image/jpeg:https://irishlimousin.com/wp-content/uploads/2024/08/Ernevalley-Temptress-Supreme-Champion-Limousin-2024.jpg
END:VEVENT
BEGIN:VEVENT
DTSTART;TZID=Europe/Dublin:20250906T120000
DTEND;TZID=Europe/Dublin:20250906T180000
DTSTAMP:20260423T181927
CREATED:20250507T162722Z
LAST-MODIFIED:20250903T223024Z
UID:13347-1757160000-1757181600@irishlimousin.com
SUMMARY:Catalogue now out - SW & Cork Clubs Pedigree Heifer Sale
DESCRIPTION:📣 Mark your calendars – ➡️ The catalogue is here!⬅️ \nThe South West and Cork Limousin Club’s High Genetic Breeding Heifer Sale is set for Saturday\, September 6th\, 2025 at Roscrea Mart and online via Martbids.ie 🐂💻 \n🔍 Viewing from 12:00pm | Sale starts at 1:30 pm \nThis is a must-attend event for anyone looking to invest in top-quality genetics. With heifers to suit all budgets\, there’s something for everyone – whether you’re buying your first or adding to an existing herd. \n💥 Don’t miss your chance to secure your next Limousin heifer ! \n📚CATALOGUE OUT NOW – CLICK HERE🖱️ \n34 HEIFERS ON OFFER BOTH INCALF AND MAIDEN \n 
URL:https://irishlimousin.com/event/catalogue-now-out-sw-cork-clubs-pedigree-heifer-sale/
LOCATION:Roscrea Mart\, Co. Tipperary\, Parkmore Industrial Estate\, Roscrea\, Co. Tipperary\, E53 F223\, Ireland
ATTACH;FMTTYPE=image/jpeg:https://irishlimousin.com/wp-content/uploads/2023/09/Ryans-Timothea-ET-6000.jpg
END:VEVENT
BEGIN:VEVENT
DTSTART;TZID=UTC:20250922T100000
DTEND;TZID=UTC:20250926T170000
DTSTAMP:20260423T181927
CREATED:20250921T201315Z
LAST-MODIFIED:20250922T201052Z
UID:13778-1758535200-1758906000@irishlimousin.com
SUMMARY:Entry Form for Clare Club Heifer sale 2025
DESCRIPTION:📢 The Annual Clare Limousin Club Heifer Sale returns to Sixmilebridge Mart on Friday evening\, 14th November 2025 at 7:00pm 🐂 \nTo Enter online for this sale plaese use this link: 🖱️👉Online Sale entry will be open from Monday 22nd to Friday 26th of September.👈 \n➡️Click here for printable entry Form and the list of Terms and conditions⬅️ \nRegulations for Entry to Clare Limousin Club Sales \n1. Females must be minimum 9 months of age and maximum up to In-Calf Heifers.\n2. All Heifers must be in TB Test\n3. All Heifers must be halter trained and tied in the pens [No Exceptions]\, but can be let into the sales ring loose or walked in by the vendor\n4. All heifers will be pre-inspected on farm one week after entry date closed.\n5. Animals must be in vendors herd prior to sale\n6. Herds consigning cattle must be actively participating in a CHeCS accredited Johnes herd testing program and have results available at least 10 working days before the sale date. This means all animals in the herd that are 24 months and over\, whether pedigree Limousin or otherwise\, are to be tested annually in accordance\nwith the rules of CHeCS. \nNote: the onus is on you the herd owner to ensure all information is up-to-date in advance of sale day. If a female is under 2 years of age at time of annual Johnes test but subsequently turns 2 years of age by the time of a sale you will be required to test this animal for Johnes before your annual Johnes test. \nAll animals entered for sale must have tested negative for the BVD Virus once within their lifetime. BVD declaration forms are required for animals born before 2013. \nAll animals must have a valid pedigree certificate at time of submitting entry form to sale \n1. Use of narcotics or pain suppressants is strictly forbidden at Clare Limousin Club Sales.\n2. White coats must be worn in the sales ring.\n3. Iron halters are forbidden at Clare Limousin Club sales.\n4. Any animal with a white spot larger than a 1 euro coin should not be entered at a Sale and will be rejected at time of inspection.\n5. All animals must be in their pens prior to 5.30pm\, to allow viewing prior to the sale. \nHeifers purchased for Export\nIn the event of a heifer being purchased by someone from Northern Ireland or mainland UK\, following is the official Department of Agriculture rules: \nAs the sale is NOT an export sale\, the heifer must return to your (the seller’s) farm and remain there for a minimum of 42 days. She can then be Export TB tested\, and subject to passing the Export TB test\, transport to NI/mainland UK can be arranged. All arrangements\, costs and risks associated with same are yours and the buyer’s responsibility. We strongly recommend taking out insurance in this scenario. \nFor any further information please contact: David McInerney +353857110237 or James Hannon +353877942460
URL:https://irishlimousin.com/event/entry-form-for-clare-club-heifer-sale-2025-2/
LOCATION:Sixmilebridge Mart
ATTACH;FMTTYPE=image/jpeg:https://irishlimousin.com/wp-content/uploads/2023/11/Lot-8-Ballykinncurra-Scarlet-e1700276896286.jpg
END:VEVENT
BEGIN:VEVENT
DTSTART;TZID=UTC:20251010T200000
DTEND;TZID=UTC:20251010T230000
DTSTAMP:20260423T181927
CREATED:20250929T092533Z
LAST-MODIFIED:20251007T153126Z
UID:13790-1760126400-1760137200@irishlimousin.com
SUMMARY:North West Limousin Club Meeting - October 2025
DESCRIPTION:Friday 10th October at 8pm sharp in the Dalton Inn Hotel\, Claremorris.\n\n📋Agenda📋\nClub Heifer sale \nCouncil Update \nAOB / Correspondents \n\n  \n 
URL:https://irishlimousin.com/event/north-west-limousin-club-meeting-october-2025/
LOCATION:Dalton Inn Hotel\, Dalton St\, Claremorris\, Mayo\, F12 V582\, Ireland
ATTACH;FMTTYPE=image/jpeg:https://irishlimousin.com/wp-content/uploads/2024/08/North-West-club.jpg
END:VEVENT
BEGIN:VEVENT
DTSTART;TZID=UTC:20251011T140000
DTEND;TZID=UTC:20251011T170000
DTSTAMP:20260423T181927
CREATED:20251007T155214Z
LAST-MODIFIED:20251007T155214Z
UID:13811-1760191200-1760202000@irishlimousin.com
SUMMARY:North Eastern Club  YMA Event
DESCRIPTION:⭐️ Young members save the date⭐️ \n\n\n🔥 North Eastern Limousin Club YMA event will be held on the 11th oct 2pm in Ballyjamesduff Cooperative Livestock Mart \n\n\n🔥 Demonstrations on clipping and training calves\, walking calves and tips for the show ring. \n\n\n🔥 Limousin cattle there for kids to walk and brush. \n\n\n🔥 YMA Competition for existing young breeders \n\n\n🔥 Goodie bags for winners \n\n\nAll young farmers very welcome\, \n\n\nContact paddy on 0862753739 or Thomas on 0833002262 for details and booking in.
URL:https://irishlimousin.com/event/north-eastern-club-yma-event/
LOCATION:Ballyjamesduff Co-operative Livestock Mart\, Granard Rd\, Ramonan\, Ballyjamesduff\, Co. Cavan\, A82 R680\, Ireland
ATTACH;FMTTYPE=image/jpeg:https://irishlimousin.com/wp-content/uploads/2025/10/NE-YMA-Event.jpg
END:VEVENT
BEGIN:VEVENT
DTSTART;VALUE=DATE:20251027
DTEND;VALUE=DATE:20251028
DTSTAMP:20260423T181927
CREATED:20250906T222900Z
LAST-MODIFIED:20251020T210507Z
UID:13733-1761523200-1761609599@irishlimousin.com
SUMMARY:October Premier Show and Sale Catalogue
DESCRIPTION:🏆 Get ready for the Premier Show & Sale! 🐂 \nJoin us at Roscrea Mart on Bank Holiday Monday\, October 27th for the annual October Premier show and sale which will feature 75 outstanding Limousin bulls and 17 heifers. \nDon’t miss this chance to acquire top-quality Limousin genetics \n➡️Click here for Catalogue⬅️\nShow at 8.30am – Sale at 12.30pm \n \nNorthern Ireland Purchasers \nAnimals will be exported to Northern Ireland. The Society will arrange and cover the cost of transport from the mart to one drop-off location. Northern Irish potential customers\, please ensure you are registered on the Traces system with the N.I. Ministry of Agriculture. \nShould you require any additional information or assistance\, please do not hesitate to contact 00353 872862285. \nMainland UK Purchasers \nPre-Export 42-day Rule: \nTo comply with the 42-day pre-export rule the Society has arranged lairage and animals will be transported free of charge to same. \nShould you require any additional information or assistance\, please do not hesitate to contact 00353 872862285. \n2024 Champions \n\n		\n		\n			\n				\n			\n				\n				Reserve Senior Champion CAPPONELLAN UNFLAPPABLE ET – unsold\n				\n			\n				\n			\n				\n				Junior Champion WOOD ROAD ULTAN – €7\,200\n				\n			\n				\n			\n				\n				Reserve Junior champion HURRICANE ULTRABEAT ET – €9\,000\n				\n			\n				\n			\n				\n				Champion Heifer CARRICKMORE TINA BABY ET – €12\,100\n				\n			\n				\n			\n				\n				Reserve Champion Heifer CLONTOWN TOPPY – €8\,000\n				\n			\n		\n\n 
URL:https://irishlimousin.com/event/october-premier-show-and-sale/
LOCATION:Roscrea Mart\, Co. Tipperary\, Parkmore Industrial Estate\, Roscrea\, Co. Tipperary\, E53 F223\, Ireland
ATTACH;FMTTYPE=image/jpeg:https://irishlimousin.com/wp-content/uploads/2024/10/r-ilim24lot27rosc-oct-6126.jpg
END:VEVENT
BEGIN:VEVENT
DTSTART;TZID=UTC:20251114T183000
DTEND;TZID=UTC:20251114T220000
DTSTAMP:20260423T181927
CREATED:20250507T163237Z
LAST-MODIFIED:20251031T195640Z
UID:13350-1763145000-1763157600@irishlimousin.com
SUMMARY:Clare Club Heifer sale 2025
DESCRIPTION:📢 Save the Date! \nThe Annual Clare Limousin Club Heifer Sale returns to Sixmilebridge Mart on Friday evening\, 14th November 2025 at 7:00pm 🐂 \n✨Featuring a quality line-up of Limousin heifers – this is a sale not to be missed by existing breeders and new breeders alike. \n📖 Catalogues available by Clicking here⬅️! \n34 Pedigree Heifers on offer
URL:https://irishlimousin.com/event/clare-club-heifer-sale-2025/
LOCATION:Sixmilebridge Mart
ATTACH;FMTTYPE=image/jpeg:https://irishlimousin.com/wp-content/uploads/2023/11/Lot-8-Ballykinncurra-Scarlet-e1700276896286.jpg
END:VEVENT
BEGIN:VEVENT
DTSTART;TZID=UTC:20251128T190000
DTEND;TZID=UTC:20251128T220000
DTSTAMP:20260423T181927
CREATED:20251106T122024Z
LAST-MODIFIED:20251106T122024Z
UID:13882-1764356400-1764367200@irishlimousin.com
SUMMARY:NOTICE OF THE ANNUAL GENERAL MEETING
DESCRIPTION:Notice is hereby given that the Annual General Meeting of the Irish Limousin Cattle Society Ltd. will take place on Friday 28th November 2025 in the Tullamore Court Hotel at 7.00pm. \nAgenda \n\nAdoption of Standing Orders.\nReading of and adoption of the Minutes of the last Annual General Meeting.\nThe President’s Address.\nAdoption of the Financial Statements for the year ended 31st August 2025 and the Auditor’s Report thereon.\nTo appoint an Auditor for the coming year.\nNational Seat Election — National Seat Representative to Council – Michael Phillips retires by rotation\, Brendan Curtin retires.\nResults of Club Seat Elections.\nClub Reports.\nAny Other Business – Topics for discussion must be submitted in writing to the Limousin Office 5 days prior to the meeting.\n\nBy order of the Council \nNote: Notice of intention to nominate any person for election as National Representative to the Council must be given in writing to the Limousin Office before 5.00pm on Friday 21st of November 2025. Nomination forms are available from the Society Office. All nominations must be in writing and signed by two members of the Society and the nominated person
URL:https://irishlimousin.com/event/notice-of-the-annual-general-meeting/
LOCATION:Tullamore Court Hotel\, O'Moore St\, Spollanstown\, Tullamore\, Offaly\, R35 D406\, Ireland
ATTACH;FMTTYPE=image/jpeg:https://irishlimousin.com/wp-content/uploads/2025/11/2025-AGM-notification.jpg
END:VEVENT
BEGIN:VEVENT
DTSTART;TZID=UTC:20251201T180000
DTEND;TZID=UTC:20251201T220000
DTSTAMP:20260423T181927
CREATED:20250507T163932Z
LAST-MODIFIED:20251127T114642Z
UID:13353-1764612000-1764626400@irishlimousin.com
SUMMARY:Annual North West Club Heifer sale 2025 - Catalogue available here
DESCRIPTION:The North West Limousin Club is set to host its Annual Heifer Sale at Elphin Mart on Monday evening\, December 1st\, 2025 🐂 \n📍 Viewing from 6:00pm | Sale to follow in Elphin Mart \n💛 A golden opportunity for anyone looking to invest in top quality Limousin genetics. \n🌟 29 heifers on offer \n📖 Catalogue Click here ⬅️ 
URL:https://irishlimousin.com/event/annual-north-west-club-heifer-sale-2025-catalogue-available-here/
LOCATION:Elphin Mart\, Elphin\, Roscommon\, F45 W672\, Ireland
ATTACH;FMTTYPE=image/jpeg:https://irishlimousin.com/wp-content/uploads/2021/12/Clew-Bay-Rosan.jpg
END:VEVENT
BEGIN:VEVENT
DTSTART;TZID=UTC:20251213T090000
DTEND;TZID=UTC:20251213T160000
DTSTAMP:20260423T181927
CREATED:20251104T110905Z
LAST-MODIFIED:20251210T234317Z
UID:13874-1765616400-1765641600@irishlimousin.com
SUMMARY:Catalogue Final Society sale of 2025 - Roscommon
DESCRIPTION:✨ Don’t Miss the Final Society Show & Sale of 2025! \nMark your calendar for the last major society event of the year! The Society’s final Show and Sale for 2025 will be held at Roscommon Mart on Saturday\, December 13th. \n\n✅ All Export Tested\n✅ All Genotyped\n✅ Johnes Program Participants: All herds are participants in CHeCS Johnes testing\n✅ All Bulls Fertility Tested\n\n⌚ Show 9.30am – Sale 12pm\n 👉Click here for Catalogue 👈\n50 Bulls and 5 heifers on offer \n🚚Free transport to a central location in Northern Ireland for any animal purchased at this sale🚚\nSpecial Limited time Offer = Bull Upgrade Scheme is in operation (see below for details):\n 
URL:https://irishlimousin.com/event/catalogue-final-society-sale-of-2025-roscommon/
LOCATION:Roscommon Mart\, Roscommon Co-Operative Livestock Mart\, Ballypheasan\, Roscommon\, Ireland
ATTACH;FMTTYPE=image/jpeg:https://irishlimousin.com/wp-content/uploads/2025/11/Carrick-on-Shannon-a5-Oct-2025.jpg
END:VEVENT
BEGIN:VEVENT
DTSTART;TZID=UTC:20251213T090000
DTEND;TZID=UTC:20251213T160000
DTSTAMP:20260423T181927
CREATED:20251121T102238Z
LAST-MODIFIED:20251210T234503Z
UID:13919-1765616400-1765641600@irishlimousin.com
SUMMARY:Catalogue for Final Society sale of 2025 - Roscommon
DESCRIPTION:✨ Don’t Miss the Final Society Show & Sale of 2025! \nMark your calendar for the last major society event of the year! The Society’s final Show and Sale for 2025 will be held at Roscommon Mart on Saturday\, December 13th. \n\n✅ All Export Tested\n✅ All Genotyped\n✅ Johnes Program Participants: All herds are participants in CHeCS Johnes testing\n✅ All Bulls Fertility Tested\n\n⌚ Show 9.30am – Sale 12pm\n👉Catalogue – click here👈\n50 bulls and 5 heifers on offer \n🚚Free transport to a central location in Northern Ireland for any animal purchased at this sale🚚\nSpecial Limited time Offer = Bull Upgrade Scheme is in operation (see below for details):\n 
URL:https://irishlimousin.com/event/catalogue-for-final-society-sale-of-2025-roscommon-2/
LOCATION:Roscommon Mart\, Roscommon Co-Operative Livestock Mart\, Ballypheasan\, Roscommon\, Ireland
ATTACH;FMTTYPE=image/jpeg:https://irishlimousin.com/wp-content/uploads/2025/05/ilim25lot30ros-may-4852-rs.jpg
END:VEVENT
BEGIN:VEVENT
DTSTART;TZID=UTC:20260303T200000
DTEND;TZID=UTC:20260303T210000
DTSTAMP:20260423T181927
CREATED:20260303T122236Z
LAST-MODIFIED:20260303T122236Z
UID:14108-1772568000-1772571600@irishlimousin.com
SUMMARY:🌐 WEBINAR TONIGHT: Myostatin in Limousin Cattle
DESCRIPTION:Join us this evening for an exclusive technical deep-dive into the genetics that drive the Limousin breed. \n 🎙️Guest Speaker: Cahir McAuley (BVMS\, MRCVS) of the renowned Larkhill Herd. \n ⌚Time: 8:00 PM Sharp \n📍 Location: Online (👉Join by clicking here👈) \nCahir brings a unique perspective as both a vet and a pedigree breeder to the topic of Myostatin variants. \nWhether you are breeding for the commercial ring or the show circuit\, understanding these “double-muscling” genes is essential for your herd’s future. \nLive Q&A: There will be a dedicated question and answer session following the presentation
URL:https://irishlimousin.com/event/%f0%9f%8c%90-webinar-tonight-myostatin-in-limousin-cattle/
LOCATION:Online\, 53.016390\, -6.787315
ATTACH;FMTTYPE=image/jpeg:https://irishlimousin.com/wp-content/uploads/2024/12/webinar-pic.jpg
END:VEVENT
BEGIN:VEVENT
DTSTART;TZID=UTC:20260316T080000
DTEND;TZID=UTC:20260316T170000
DTSTAMP:20260423T181927
CREATED:20251214T131122Z
LAST-MODIFIED:20260311T153812Z
UID:14007-1773648000-1773680400@irishlimousin.com
SUMMARY:First Sale of 2026 Premier bull show and sale
DESCRIPTION:First sale of 2026 🐂\nOur First Society Show & Sale of 2026 takes place at Roscrea Mart on Monday\, March 16th. \nPremier bull show and sale: \nAll bulls are Export Tested\, Fertility Tested\, and Genotyped. \nShow at 9am – Sale at 12.30pm. \nFree transport to central location in Northern Ireland. \n👉 VIEW CATALOGUE HERE\nThe Stock Bull Upgrade Scheme is running for all upcoming spring society sales. Full details below: \n \n  \n 
URL:https://irishlimousin.com/event/first-sale-of-2026-premier-bull-show-and-sale/
LOCATION:Roscrea Mart\, Co. Tipperary\, Parkmore Industrial Estate\, Roscrea\, Co. Tipperary\, E53 F223\, Ireland
ATTACH;FMTTYPE=image/jpeg:https://irishlimousin.com/wp-content/uploads/2024/04/ilim24lot30roscrea-apr-3560-r.jpg
END:VEVENT
BEGIN:VEVENT
DTSTART;TZID=UTC:20260410T160000
DTEND;TZID=UTC:20260410T210000
DTSTAMP:20260423T181927
CREATED:20260318T132108Z
LAST-MODIFIED:20260408T204816Z
UID:14176-1775836800-1775854800@irishlimousin.com
SUMMARY:Gort show and sale - Catalogue available
DESCRIPTION:Society Show and Sale of pedigree bulls and heifers \nOn Friday evening the 10th of April – Gort mart will host our second society show & sale of 2026. \n58 bulls and seven heifers \n⇒Click here for Gort sale Catalogue⇐\nCross herd heifer reduction sale\nTom Feehan of the Cross herd is holding a reduction sale of 10 pedigree heifers immediately after the society sale – to view the catalogue please click on this link: \n 👉Cross herd heifer reduction sale👈\nN.B. The catalogue is now updated to reflect the latest ICBF evaluations. \nWant €400 back on your new stock bull?\nStock bull upgrade scheme is in operation for this sale\, check out the details below 👇 \n \n  \n 
URL:https://irishlimousin.com/event/gort-show-and-sale-catalogue-available/
LOCATION:Gort Mart\, Ballybawn\, Gort\, Co. Galway\, 53°02'51.1"N 8°50'10.2"W\, Ireland
ATTACH;FMTTYPE=image/jpeg:https://irishlimousin.com/wp-content/uploads/2025/12/Lot-47-MEELICKADUFF-VOLCANO-Roscommon-Dec-2025.jpg
END:VEVENT
BEGIN:VEVENT
DTSTART;TZID=UTC:20260425T090000
DTEND;TZID=UTC:20260425T170000
DTSTAMP:20260423T181927
CREATED:20260412T162611Z
LAST-MODIFIED:20260413T200101Z
UID:14286-1777107600-1777136400@irishlimousin.com
SUMMARY:April 2026 Premier show and sale
DESCRIPTION:Our April Premier Show & Sale of 2026 takes place at Roscrea Mart on Saturday April 25th\, 2026. \nPremier show and sale: \nAll cattle are Export Tested\, and Genotyped. \nAll bulls are Fertility Tested\,  \nShow at 9.45am – Sale at 12.30pm. \nFree transport to central location in Northern Ireland. \n👉 CLICK HERE FOR CATALOGUE OF 44 BULLS & 7 HEIFERS👈 \nThe Stock Bull Upgrade Scheme is running for all upcoming spring society sales. Full details below: \n \n  \n 
URL:https://irishlimousin.com/event/april-2026-premier-show-and-sale/
LOCATION:Roscrea Mart\, Co. Tipperary\, Parkmore Industrial Estate\, Roscrea\, Co. Tipperary\, E53 F223\, Ireland
ATTACH;FMTTYPE=image/jpeg:https://irishlimousin.com/wp-content/uploads/2026/03/Lot-48-Junior-Champion-Brookland-Van-Damme.jpg
END:VEVENT
BEGIN:VEVENT
DTSTART;VALUE=DATE:20260429
DTEND;VALUE=DATE:20260430
DTSTAMP:20260423T181927
CREATED:20260408T235529Z
LAST-MODIFIED:20260408T235529Z
UID:14262-1777420800-1777507199@irishlimousin.com
SUMMARY:South West club Commercial LIMOUSIN Heifer Sale spring 2026
DESCRIPTION:Breeding & Feeding Heifers in Castleisland Mart \n4 and 5 Star Genotyped heifers available \nContact: Castleisland mart (066) 714 1247 or John on 087 6271686 \n 
URL:https://irishlimousin.com/event/south-west-club-commercial-limousin-heifer-sale-spring-2026/
LOCATION:Castleisland mart\, Old Chapel Lane\, Castleisland\, Kerry\, v92 kw92\, Ireland
ATTACH;FMTTYPE=image/jpeg:https://irishlimousin.com/wp-content/uploads/2021/07/1V8A6077-PD-scaled.jpg
END:VEVENT
END:VCALENDAR