BEGIN:VCALENDAR
VERSION:2.0
PRODID:-//Irish Limousin - ECPv6.15.20//NONSGML v1.0//EN
CALSCALE:GREGORIAN
METHOD:PUBLISH
X-WR-CALNAME:Irish Limousin
X-ORIGINAL-URL:https://irishlimousin.com
X-WR-CALDESC:Events for Irish Limousin
REFRESH-INTERVAL;VALUE=DURATION:PT1H
X-Robots-Tag:noindex
X-PUBLISHED-TTL:PT1H
BEGIN:VTIMEZONE
TZID:UTC
BEGIN:STANDARD
TZOFFSETFROM:+0000
TZOFFSETTO:+0000
TZNAME:UTC
DTSTART:20210101T000000
END:STANDARD
END:VTIMEZONE
BEGIN:VEVENT
DTSTART;TZID=UTC:20221105T093000
DTEND;TZID=UTC:20221105T190000
DTSTAMP:20260423T231312
CREATED:20220923T103554Z
LAST-MODIFIED:20221025T200252Z
UID:9873-1667640600-1667674800@irishlimousin.com
SUMMARY:Roscrea Premier Sale
DESCRIPTION:The Roscrea Premier will take place on November 5th\, 2022. \nCatalogue HERE!
URL:https://irishlimousin.com/event/roscrea-premier-sale/
LOCATION:Roscrea Mart\, Co. Tipperary\, Parkmore Industrial Estate\, Roscrea\, Co. Tipperary\, E53 F223\, Ireland
ATTACH;FMTTYPE=image/jpeg:https://irishlimousin.com/wp-content/uploads/2022/04/ilim22ant-7303-scaled-1.jpg
END:VEVENT
BEGIN:VEVENT
DTSTART;VALUE=DATE:20220930
DTEND;VALUE=DATE:20221002
DTSTAMP:20260423T231312
CREATED:20220725T090110Z
LAST-MODIFIED:20220923T140415Z
UID:9547-1664496000-1664668799@irishlimousin.com
SUMMARY:50th Anniversary Show & Sale
DESCRIPTION:Carrick-On-Shannon 50th Anniversary Show & Sale Schedule \nSaturday\, October 1st\, 2022: Commercial Classes \nSaturday\, October 1st\, 2022: Pedigree Classes \nSaturday\, October 1st\, 2022: ‘Mega Moo’ €10\,000 Heifer Competition \nCarrick-On-Shannon 50th Anniversary Shows & Sale Entry Forms \nCommercial Classes Entry Form \nPedigree Classes Entry Form \nPre inspected Elite Heifer Sale Form \nTerms and Conditions \nExhibitor’s Letter
URL:https://irishlimousin.com/event/50th-anniversary-show-sale/
LOCATION:Carrick-On-Shannon
ATTACH;FMTTYPE=image/jpeg:https://irishlimousin.com/wp-content/uploads/2022/07/ilim22-thurles-7174-scaled-1.jpg
END:VEVENT
BEGIN:VEVENT
DTSTART;VALUE=DATE:20220814
DTEND;VALUE=DATE:20220815
DTSTAMP:20260423T231312
CREATED:20220725T084837Z
LAST-MODIFIED:20220725T085743Z
UID:9538-1660435200-1660521599@irishlimousin.com
SUMMARY:Limousin National Championships
DESCRIPTION:Entries now accepted. To enter click HERE
URL:https://irishlimousin.com/event/limousin-national-championships/
LOCATION:Tullamore\, Co. Offaly
ATTACH;FMTTYPE=image/jpeg:https://irishlimousin.com/wp-content/uploads/2022/07/ilim22elphin-mar-4619-scaled-1.jpg
END:VEVENT
END:VCALENDAR