BEGIN:VCALENDAR
VERSION:2.0
PRODID:-//Irish Limousin - ECPv6.15.20//NONSGML v1.0//EN
CALSCALE:GREGORIAN
METHOD:PUBLISH
X-WR-CALNAME:Irish Limousin
X-ORIGINAL-URL:https://irishlimousin.com
X-WR-CALDESC:Events for Irish Limousin
REFRESH-INTERVAL;VALUE=DURATION:PT1H
X-Robots-Tag:noindex
X-PUBLISHED-TTL:PT1H
BEGIN:VTIMEZONE
TZID:UTC
BEGIN:STANDARD
TZOFFSETFROM:+0000
TZOFFSETTO:+0000
TZNAME:UTC
DTSTART:20250101T000000
END:STANDARD
END:VTIMEZONE
BEGIN:VEVENT
DTSTART;VALUE=DATE:20260429
DTEND;VALUE=DATE:20260430
DTSTAMP:20260421T185048
CREATED:20260408T235529Z
LAST-MODIFIED:20260408T235529Z
UID:14262-1777420800-1777507199@irishlimousin.com
SUMMARY:South West club Commercial LIMOUSIN Heifer Sale spring 2026
DESCRIPTION:Breeding & Feeding Heifers in Castleisland Mart \n4 and 5 Star Genotyped heifers available \nContact: Castleisland mart (066) 714 1247 or John on 087 6271686 \n 
URL:https://irishlimousin.com/event/south-west-club-commercial-limousin-heifer-sale-spring-2026/
LOCATION:Castleisland mart\, Old Chapel Lane\, Castleisland\, Kerry\, v92 kw92\, Ireland
ATTACH;FMTTYPE=image/jpeg:https://irishlimousin.com/wp-content/uploads/2021/07/1V8A6077-PD-scaled.jpg
END:VEVENT
END:VCALENDAR