BEGIN:VCALENDAR
VERSION:2.0
PRODID:-//Irish Limousin - ECPv6.15.20//NONSGML v1.0//EN
CALSCALE:GREGORIAN
METHOD:PUBLISH
X-WR-CALNAME:Irish Limousin
X-ORIGINAL-URL:https://irishlimousin.com
X-WR-CALDESC:Events for Irish Limousin
REFRESH-INTERVAL;VALUE=DURATION:PT1H
X-Robots-Tag:noindex
X-PUBLISHED-TTL:PT1H
BEGIN:VTIMEZONE
TZID:UTC
BEGIN:STANDARD
TZOFFSETFROM:+0000
TZOFFSETTO:+0000
TZNAME:UTC
DTSTART:20230101T000000
END:STANDARD
END:VTIMEZONE
BEGIN:VEVENT
DTSTART;TZID=UTC:20240531T190000
DTEND;TZID=UTC:20240603T190000
DTSTAMP:20260425T120405
CREATED:20240514T161650Z
LAST-MODIFIED:20240514T161650Z
UID:11727-1717182000-1717441200@irishlimousin.com
SUMMARY:Baileys Red Ladies Online Limousin Sale
DESCRIPTION:Sale of 18 Pedigree Limousin Females on behalf of Tom Bailey\, Batterstown\, Co. Meath.\n\n\nViewing of all animals on the farm on Saturday the 1st June at 12noon – A85 E898. Outside of this time strictly by appointment with the vendor.\n\n⭐Online Catalogue is now live ⇐Click here⭐\n\n\nThis sale is an online sale: DenisBarrett@Marteye.ie in Association with Harrison & Hetherington – June Bank Holiday Weekend May 31st to Jun 3rd 2024.
URL:https://irishlimousin.com/event/baileys-red-ladies-online-limousin-sale/
LOCATION:Marteye Online
ATTACH;FMTTYPE=image/jpeg:https://irishlimousin.com/wp-content/uploads/2022/06/Lot-18-4000.jpg
ORGANIZER;CN="Denis Barrett Auctions":MAILTO:info@denisbarrett.com
END:VEVENT
END:VCALENDAR