BEGIN:VCALENDAR
VERSION:2.0
PRODID:-//Irish Limousin - ECPv6.15.20//NONSGML v1.0//EN
CALSCALE:GREGORIAN
METHOD:PUBLISH
X-ORIGINAL-URL:https://irishlimousin.com
X-WR-CALDESC:Events for Irish Limousin
REFRESH-INTERVAL;VALUE=DURATION:PT1H
X-Robots-Tag:noindex
X-PUBLISHED-TTL:PT1H
BEGIN:VTIMEZONE
TZID:UTC
BEGIN:STANDARD
TZOFFSETFROM:+0000
TZOFFSETTO:+0000
TZNAME:UTC
DTSTART:20230101T000000
END:STANDARD
END:VTIMEZONE
BEGIN:VEVENT
DTSTART;VALUE=DATE:20240525
DTEND;VALUE=DATE:20240526
DTSTAMP:20260425T121108
CREATED:20240509T111946Z
LAST-MODIFIED:20240522T092659Z
UID:11703-1716595200-1716681599@irishlimousin.com
SUMMARY:Roscommon Show and Sale
DESCRIPTION:The annual Show and Sale at Roscommon mart will take place on Saturday 25th May 2024 \nShow 9.30am; Sale 12.30pm. \nCatalogue of 58 bulls and 3 heifers is available by clicking here \nPlease note the Catalogue will be updated following the Evaluation run on the 21st of May. \nFinance scheme available to ROI purchasers – apply in advance to the society office on 025 85036 \nAll cattle are: \n\nGenotyped\nFrom herds participating in CheCS accredited Johnes Herd Testing Programmes\nBulls are Fertility Tested\n\nBulls sold to ROI are Fertility insured with FBD\n\n\n\nTransfer of pedigree certificate to a new herd will be paid for the females sold at this sale.  \n*Conditions apply – see full catalogue in link above for details
URL:https://irishlimousin.com/event/roscommon-show-and-sale/
LOCATION:Roscommon Mart\, Roscommon Co-Operative Livestock Mart\, Ballypheasan\, Roscommon\, Ireland
ATTACH;FMTTYPE=image/jpeg:https://irishlimousin.com/wp-content/uploads/2022/05/ilim22lot29ros-5494-scaled-1.jpg
END:VEVENT
END:VCALENDAR