BEGIN:VCALENDAR
VERSION:2.0
PRODID:-//Irish Limousin - ECPv6.15.20//NONSGML v1.0//EN
CALSCALE:GREGORIAN
METHOD:PUBLISH
X-ORIGINAL-URL:https://irishlimousin.com
X-WR-CALDESC:Events for Irish Limousin
REFRESH-INTERVAL;VALUE=DURATION:PT1H
X-Robots-Tag:noindex
X-PUBLISHED-TTL:PT1H
BEGIN:VTIMEZONE
TZID:UTC
BEGIN:STANDARD
TZOFFSETFROM:+0000
TZOFFSETTO:+0000
TZNAME:UTC
DTSTART:20230101T000000
END:STANDARD
END:VTIMEZONE
BEGIN:VEVENT
DTSTART;VALUE=DATE:20240506
DTEND;VALUE=DATE:20240507
DTSTAMP:20260423T165019
CREATED:20240418T223038Z
LAST-MODIFIED:20240501T161224Z
UID:11552-1714953600-1715039999@irishlimousin.com
SUMMARY:Roscrea May Bank Holiday Premier Show & Sale Catalogue
DESCRIPTION:Catalogue of 45 bulls and 25 heifers available by clicking here ♠\nRoscrea Mart\, Co. Tipperary and online at Martbids.\nShow 8.30 am – Sale 12.30 pm \nFinance scheme available to ROI purchasers – apply in advance to the society office on 025 85036 \nAll cattle are: \n\nGenotyped\nFrom herds participating in CheCS accredited Johnes Herd Testing Programmes\nExported tested for immediate export to NI\nBulls are Fertility Tested\n\nBulls sold to ROI are Fertility insured with FBD\nContribution of 4.5% of selling price to NI & UK customers towards insurance*\n\n\n\nTransport available to central location in NI \nLairage available in NI for UK based purchasers \nNorthern Irish potential customers please ensure that you are registered on the Traces system with the N.I. Ministry of Agriculture. \nTransfer of pedigree certificate to a new herd will be paid for the females sold at this sale.  \n*Conditions apply – see printed catalogue for details
URL:https://irishlimousin.com/event/roscrea-may-bank-holiday-premier-show-sale-catalogue/
LOCATION:Roscrea Mart\, Co. Tipperary\, Parkmore Industrial Estate\, Roscrea\, Co. Tipperary\, E53 F223\, Ireland
ATTACH;FMTTYPE=image/jpeg:https://irishlimousin.com/wp-content/uploads/2022/11/ilim22lot1rosc-nov-3253-scaled.jpg
END:VEVENT
END:VCALENDAR