BEGIN:VCALENDAR
VERSION:2.0
PRODID:-//Irish Limousin - ECPv6.15.20//NONSGML v1.0//EN
CALSCALE:GREGORIAN
METHOD:PUBLISH
X-WR-CALNAME:Irish Limousin
X-ORIGINAL-URL:https://irishlimousin.com
X-WR-CALDESC:Events for Irish Limousin
REFRESH-INTERVAL;VALUE=DURATION:PT1H
X-Robots-Tag:noindex
X-PUBLISHED-TTL:PT1H
BEGIN:VTIMEZONE
TZID:UTC
BEGIN:STANDARD
TZOFFSETFROM:+0000
TZOFFSETTO:+0000
TZNAME:UTC
DTSTART:20230101T000000
END:STANDARD
END:VTIMEZONE
BEGIN:VEVENT
DTSTART;TZID=UTC:20240414T110000
DTEND;TZID=UTC:20240414T140000
DTSTAMP:20260423T192756
CREATED:20240403T193321Z
LAST-MODIFIED:20240403T193345Z
UID:11498-1713092400-1713103200@irishlimousin.com
SUMMARY:Young Handlers Showmanship Basics Event in conjunction with Tullamore Show
DESCRIPTION:Tullamore Show is delighted the announce our very first Young Handlers Event “Showmanship Basics”. \nAll Young Handlers are invited. \nWe would like to welcome both new and existing Young Handlers to our first ever Young Handlers event in Dairy\, Beef and Sheep \n\nThis event will help young handlers gain knowledge and skills needed to prepare them for the showing season ahead.\n\n\n\nIt will covers demonstrations and discussions on washing\, clipping\, showing and much much more.\n\n\n\nWe are also delighted to Launch the Tullamore Show and FBD National livestock Show 2024 on the day. \n\n\n\nThis is a FREE event\, and we would like everyone to register on our website using the following link: www.tullamoreshow.com\n\n\n\nThe registration portal will be open from Monday\, the 1st of April. Remember this is a FREE event.\n\n\n\nDon’t miss out and join our experienced handlers and guests on the day\n\nThis event will welcome new and existing young handler across Dairy\, Beef and Sheep to gain additional knowledge\, learn new skills and prepare for the showing season ahead. \nThere will many demonstrations and discussions through the day covering many areas which include the following: \n\nGrooming ( Washing & Clipping)\nShowing\nSafety awareness – safety knot etc\nPhotography tips – Getting the correct photo that showcase your animal.\nShowing etiquette and attire\n\nThere will be several animals present on the day and Young Handlers can interact with the animals and demonstrations. \n  \n 
URL:https://irishlimousin.com/event/young-handlers-showmanship-basics-event-in-conjunction-with-tullamore-show/
LOCATION:Tullamore Mart\, GVM Mart Arden Rd\, Tullamore\, Co. Offaly
ATTACH;FMTTYPE=image/png:https://irishlimousin.com/wp-content/uploads/2024/04/Tullamore-Young-Handlers-event.png
END:VEVENT
END:VCALENDAR