BEGIN:VCALENDAR
VERSION:2.0
PRODID:-//Irish Limousin - ECPv6.15.20//NONSGML v1.0//EN
CALSCALE:GREGORIAN
METHOD:PUBLISH
X-ORIGINAL-URL:https://irishlimousin.com
X-WR-CALDESC:Events for Irish Limousin
REFRESH-INTERVAL;VALUE=DURATION:PT1H
X-Robots-Tag:noindex
X-PUBLISHED-TTL:PT1H
BEGIN:VTIMEZONE
TZID:UTC
BEGIN:STANDARD
TZOFFSETFROM:+0000
TZOFFSETTO:+0000
TZNAME:UTC
DTSTART:20220101T000000
END:STANDARD
END:VTIMEZONE
BEGIN:VEVENT
DTSTART;VALUE=DATE:20231204
DTEND;VALUE=DATE:20231205
DTSTAMP:20260424T013925
CREATED:20231120T151933Z
LAST-MODIFIED:20231129T111159Z
UID:11200-1701648000-1701734399@irishlimousin.com
SUMMARY:North West Club - December Elite Heifer Sale
DESCRIPTION:NW Limousin are hosting their annual Elite Heifer Sale in Elphin Mart on Monday evening the 4th of December \nTwenty one heifers on offer \n⇒Click here for Catalogue ⇐  \nMoney back on top price heifers on the night to sell under the hammer \nSale ~6.30pm
URL:https://irishlimousin.com/event/north-west-club-december-elite-heifer-sale/
LOCATION:Elphin Livestock Mart\, Palace Road\, Roscommon\, F45W672\, Ireland
ATTACH;FMTTYPE=image/jpeg:https://irishlimousin.com/wp-content/uploads/2021/12/Lot-5-stood-2.jpg
END:VEVENT
END:VCALENDAR